{"text_format":"1","workbook":"xlsx","n_sheets":2,"sheets":["Modulplan","Listen"],"not_rendered":{"charts":0,"images":0,"macros":1,"external_links":0,"defined_names":1,"comments":1,"pivot_tables":0},"unopened":[],"bounds":{"document_bytes":16777216,"sheet_cells":100000,"rows_first":2000,"rows_last":500,"rows_between":2000,"halvings":0,"cell_chars":16384,"cell_head_chars":4096},"cells_cut":0,"cells_raw":0,"read":"whole","date_system":"1900"}

{"sheet":"Modulplan","index":0,"n_rows":42,"n_cols":19,"rows_kept":42,"cut":false,"hidden":false,"merged":[[20,16,20,18],[6,13,7,14],[27,0,27,12],[33,0,33,12],[0,11,0,12],[2,0,2,12],[11,0,11,12],[13,0,13,12],[21,0,21,12],[0,0,1,0],[0,1,0,2],[0,3,0,4],[0,5,0,6],[0,7,0,8],[0,9,0,10]]}
[{"$f":"IF(OR(O5=\"5C\",O5=\"5D\"),\"5. Klasse SKP\",IF(OR(O5=\"6C\",O5=\"6D\"),\"6. Klasse SKP\",\"7. Klasse SKP\"))","v":"5. Klasse SKP"},{"$f":"IF(A1=\"5. Klasse SKP\",\"WS 20/21\",IF(A1=\"6. Klasse SKP\",\"WS 19/20\",\"WS 18/19\"))","v":"WS 20/21"},null,{"$f":"IF(B1=\"WS 18/19\",\"SS 18/19\",IF(B1=\"WS 19/20\",\"SS 19/20\",\"SS 20/21\"))","v":"SS 20/21"},null,{"$f":"IF(D1=\"SS 18/19\",\"WS 19/20\",IF(D1=\"SS 19/20\",\"WS 20/21\",\"WS 21/22\"))","v":"WS 21/22"},null,{"$f":"IF(F1=\"WS 19/20\",\"SS 19/20\",IF(F1=\"WS 20/21\",\"SS 20/21\",\"SS 21/22\"))","v":"SS 21/22"},null,{"$f":"IF(H1=\"SS 19/20\",\"WS 20/21\",IF(H1=\"SS 20/21\",\"WS 21/22\",\"WS 22/23\"))","v":"WS 22/23"},null,{"$f":"IF(J1=\"WS 20/21\",\"SS 20/21\",IF(J1=\"WS 21/22\",\"SS 21/22\",\"SS 22/23\"))","v":"SS 22/23"},null,null,null,null,null,null,{"$f":"IF(A18=A23,\"\",\"1\")","v":""}]
[null,"Modul","Std.","Modul","Std.","Modul","Std.","Modul","Std.","Modul","Std.","Modul","Std."]
["Kermodule",null,null,null,null,null,null,null,null,null,null,null,null,"Vorname:"]
["ETH/RK/RE","ETH",2,"ETH",2,"ETH",2,"ETH",2,"ETH",2,"ETH",2,"Nachname:"]
["D","D",3,"D",3,"D",3,"D",3,"D",3,"D",3,"Klasse:","5c"]
["M","M",3,"M",3,"M",3,"M",3,"M",3,"M",3]
["E 7.Kl","Ea",3,"Ea",3,{"$f":"IF(OR($A$7=\"E 7.Kl\",A7=\"E durchgehend\"),\"Eb\",\"\")","v":"Eb"},{"$f":"IF(F7<>\"\",3,\"\")","v":3},{"$f":"IF(OR($A$7=\"E 7.Kl\",A7=\"E durchgehend\"),\"Eb\",\"\")","v":"Eb"},{"$f":"IF(H7<>\"\",3,\"\")","v":3},{"$f":"IF(OR($A$7=\"E 8.Kl\",A7=\"E durchgehend\"),\"Ec\",\"\")","v":""},{"$f":"IF(J7<>\"\",3,\"\")","v":""},{"$f":"IF(OR($A$7=\"E 8.Kl\",A7=\"E durchgehend\"),\"Ec\",\"\")","v":""},{"$f":"IF(L7<>\"\",3,\"\")","v":""}]
["BSP","BSP",2,"BSP",2,"BSP",2,"BSP",2,"BSP",2,"BSP",2]
["KOSO","KOSO",2,"KOSO",2]
["PP",null,null,null,null,"PP",2,"PP",2]
["Summe/Sem.",null,{"$f":"SUM(C4:C10)","v":15},null,{"$f":"SUM(E4:E10)","v":15},null,{"$f":"SUM(G4:G10)","v":15},null,{"$f":"SUM(I4:I10)","v":15},null,{"$f":"SUM(K4:K10)","v":10},null,{"$f":"SUM(M4:M10)","v":10},{"$f":"IF(A7=\"E durchgehend\",SUM(C11,E11,G11,I11,K11,M11)-6,SUM(C11,E11,G11,I11,K11,M11))","v":80},"(=80 )"]
["durchgängig gewählte Sprache"]
[null,{"$f":"IF(A13=\"\",\"\",A13)","v":""},{"$f":"IF(OR(B13=\"RU\",B13=\"IT\"),4,IF(B13<>\"\",3,0))","v":0},{"$f":"IF(A13=\"\",\"\",A13)","v":""},{"$f":"IF(OR(D13=\"RU\",D13=\"IT\"),4,IF(D13<>\"\",3,0))","v":0},{"$f":"IF(A13=\"\",\"\",A13)","v":""},{"$f":"IF(F13<>\"\",4,0)","v":0},{"$f":"IF(A13=\"\",\"\",A13)","v":""},{"$f":"IF(H13<>\"\",4,0)","v":0},{"$f":"IF(A13=\"\",\"\",A13)","v":""},{"$f":"IF(OR(J13=\"RU\",J13=\"IT\"),4,IF(J13<>\"\",3,0))","v":0},{"$f":"IF(A13=\"\",\"\",A13)","v":""},{"$f":"IF(OR(L13=\"RU\",L13=\"IT\"),4,IF(L13<>\"\",3,0))","v":0},{"$f":"SUM(C13+E13+G13+I13+K13+M13)","v":0},"(=20 / 24)"]
["Naturwissenschaftliche Fächer"]
["Physik",null,{"$f":"IF(B15<>\"\",3,\"\")","v":""},null,{"$f":"IF(D15<>\"\",3,\"\")","v":""},null,{"$f":"IF(F15<>\"\",3,\"\")","v":""},null,{"$f":"IF(H15<>\"\",3,\"\")","v":""},null,{"$f":"IF(J15<>\"\",3,\"\")","v":""},null,{"$f":"IF(L15<>\"\",3,\"\")","v":""}]
["BU",null,{"$f":"IF(B16<>\"\",3,\"\")","v":""},null,{"$f":"IF(D16<>\"\",3,\"\")","v":""},null,{"$f":"IF(F16<>\"\",3,\"\")","v":""},null,{"$f":"IF(H16<>\"\",3,\"\")","v":""},null,{"$f":"IF(J16<>\"\",3,\"\")","v":""},null,{"$f":"IF(L16<>\"\",3,\"\")","v":""}]
["Chemie",null,{"$f":"IF(B17<>\"\",2,\"\")","v":""},null,{"$f":"IF(D17<>\"\",2,\"\")","v":""},null,{"$f":"IF(F17<>\"\",2,\"\")","v":""},null,{"$f":"IF(H17<>\"\",2,\"\")","v":""},null,{"$f":"IF(J17<>\"\",2,\"\")","v":""},null,{"$f":"IF(L17<>\"\",2,\"\")","v":""}]
["GW",null,{"$f":"IF(B18<>\"\",2,\"\")","v":""},null,{"$f":"IF(D18<>\"\",2,\"\")","v":""},null,{"$f":"IF(F18<>\"\",IF(OR(F18=\"GWa\",F18=\"GWEa\"),2,3),\"\")","v":""},null,{"$f":"IF(H18<>\"\",IF(OR(H18=\"GWa\",H18=\"GWEa\"),2,3),\"\")","v":""},null,{"$f":"IF(J18<>\"\",3,\"\")","v":""},null,{"$f":"IF(L18<>\"\",3,\"\")","v":""}]
["Darst. Geometrie",null,null,null,null,null,{"$f":"IF(F19<>\"\",2,\"\")","v":""},null,{"$f":"IF(H19<>\"\",2,\"\")","v":""},null,{"$f":"IF(J19<>\"\",2,\"\")","v":""},null,{"$f":"IF(L19<>\"\",2,\"\")","v":""}]
["IN Wahlmodule",null,{"$f":"IF(B20<>\"\",2,\"\")","v":""},null,{"$f":"IF(D20<>\"\",2,\"\")","v":""},null,{"$f":"IF(F20<>\"\",2,\"\")","v":""},null,{"$f":"IF(H20<>\"\",2,\"\")","v":""},null,{"$f":"IF(J20<>\"\",2,\"\")","v":""},null,{"$f":"IF(L20<>\"\",2,\"\")","v":""},{"$f":"SUM(C20,E20,G20,I20,K20,M20)","v":0}]
["Summe/Sem.",null,{"$f":"IF(A1=\"5. Klasse SKP\", SUM(C15:C18,C20),SUM(C15:C20))","v":0},null,{"$f":"IF(A1=\"5. Klasse SKP\", SUM(E15:E18,E20),SUM(E15:E20))","v":0},null,{"$f":"IF(A1<>\"7. Klasse SKP\", SUM(G15:G17,G18:G19,G20),SUM(G15:G20))","v":0},null,{"$f":"IF(C1<>\"7. Klasse SKP\", SUM(I15:I17,I18:I19,I20),SUM(I15:I20))","v":0},null,{"$f":"SUM(K15:K20)","v":0},null,{"$f":"SUM(M15:M20)","v":0},{"$f":"SUM(C21+E21+G21+I21+K21+M21)","v":0},"(=28)"]
["Geisteswissenschaftliche Fächer"]
["GW",null,{"$f":"IF(B23<>\"\",2,\"\")","v":""},null,{"$f":"IF(D23<>\"\",2,\"\")","v":""},null,{"$f":"IF(F23<>\"\",IF(OR(F23=\"GWa\",F23=\"GWEa\"),2,3),\"\")","v":""},null,{"$f":"IF(H23<>\"\",IF(OR(H23=\"GWa\",H23=\"GWEa\"),2,3),\"\")","v":""},null,{"$f":"IF(J23<>\"\",3,\"\")","v":""},null,{"$f":"IF(L23<>\"\",3,\"\")","v":""}]
["GS",null,{"$f":"IF(B24<>\"\",2,\"\")","v":""},null,{"$f":"IF(D24<>\"\",2,\"\")","v":""},null,{"$f":"IF(F24=\"GSa\",2,IF(F24=\"GSb\",3,\"\"))","v":""},null,{"$f":"IF(H24=\"GSa\",2,IF(H24=\"GSb\",3,\"\"))","v":""},null,{"$f":"IF(J24<>\"\",3,\"\")","v":""},null,{"$f":"IF(L24<>\"\",3,\"\")","v":""}]
["KOSO",null,null,null,null,null,{"$f":"IF(F25<>\"\",2,\"\")","v":""},null,{"$f":"IF(H25<>\"\",2,\"\")","v":""},null,{"$f":"IF(J25<>\"\",2,\"\")","v":""},null,{"$f":"IF(L25<>\"\",2,\"\")","v":""}]
["PP",null,null,null,null,null,{"$f":"IF(F26=\"PP\",2,\"\")","v":""},null,{"$f":"IF(H26=\"PP\",2,\"\")","v":""},null,{"$f":"IF(J26<>\"\",2,\"\")","v":""},null,{"$f":"IF(L26<>\"\",2,\"\")","v":""}]
["Summe/Sem.",null,{"$f":"SUM(C23:C24)","v":0},null,{"$f":"SUM(E23:E24)","v":0},null,{"$f":"SUM(G23:G26)","v":0},null,{"$f":"SUM(I23:I26)","v":0},null,{"$f":"SUM(K23:K26)","v":0},null,{"$f":"SUM(M23:M26)","v":0},{"$f":"SUM(C27+E27+G27+I27+K27+M27)","v":0},"(=16)"]
["Künstlerische Fächer"]
["BE",null,{"$f":"IF(B29<>\"\",2,\"\")","v":""},null,{"$f":"IF(D29<>\"\",2,\"\")","v":""},null,{"$f":"IF(F29<>\"\",2,\"\")","v":""},null,{"$f":"IF(H29<>\"\",2,\"\")","v":""},null,{"$f":"IF(J29<>\"\",2,\"\")","v":""},null,{"$f":"IF(L29<>\"\",2,\"\")","v":""},{"$f":"SUM(C29,C31,E29,E31,G29,G31,I29,I31,K29,K31,M29,M31)","v":0}]
["Musik",null,{"$f":"IF(B30<>\"\",2,\"\")","v":""},null,{"$f":"IF(D30<>\"\",2,\"\")","v":""},null,{"$f":"IF(F30<>\"\",2,\"\")","v":""},null,{"$f":"IF(H30<>\"\",2,\"\")","v":""},null,{"$f":"IF(J30<>\"\",2,\"\")","v":""},null,{"$f":"IF(L30<>\"\",2,\"\")","v":""},{"$f":"SUM(C30,C32,E30,E32,G32,G30,I30,I32,K32,K30,M30,M32)","v":0}]
["BE Wahlmodule",null,{"$f":"IF(B31<>\"\",2,\"\")","v":""},null,{"$f":"IF(D31<>\"\",2,\"\")","v":""},null,{"$f":"IF(F31<>\"\",2,\"\")","v":""},null,{"$f":"IF(H31<>\"\",2,\"\")","v":""},null,{"$f":"IF(J31<>\"\",2,\"\")","v":""},null,{"$f":"IF(L31<>\"\",2,\"\")","v":""}]
["ME Wahlmodule",null,{"$f":"IF(B32<>\"\",2,\"\")","v":""},null,{"$f":"IF(D32<>\"\",2,\"\")","v":""},null,{"$f":"IF(F32<>\"\",2,\"\")","v":""},null,{"$f":"IF(H32<>\"\",2,\"\")","v":""},null,{"$f":"IF(J32<>\"\",2,\"\")","v":""},null,{"$f":"IF(L32<>\"\",2,\"\")","v":""}]
["Summe/Sem.",null,{"$f":"SUM(C29:C32)","v":0},null,{"$f":"SUM(E29:E32)","v":0},null,{"$f":"SUM(G29:G32)","v":0},null,{"$f":"SUM(I29:I32)","v":0},null,{"$f":"SUM(K29:K32)","v":0},null,{"$f":"SUM(M29:M32)","v":0},{"$f":"SUM(C33+E33+G33+I33+K33+M33)","v":0},"(=12)"]
["Ergänzungsbereich"]
[]
[]
[]
[]
[]
[]
[null,null,{"$f":"SUM(C35:C40)","v":0},null,{"$f":"SUM(E35:E40)","v":0},null,{"$f":"SUM(G35:G40)","v":0},null,{"$f":"SUM(I35:I40)","v":0},null,{"$f":"SUM(K35:K40)","v":0},null,{"$f":"SUM(M35:M40)","v":0},{"$f":"IF(A7=\"E durchgehend\",SUM(C41,E41,G41,I41,K41,M41,K7,M7),SUM(C41,E41,G41,I41,K41,M41))","v":0},"(=48 / 44)"]
["Total/Sem.",null,{"$f":"SUM(C11,C13,C21,C27,C33,C41)","v":15},null,{"$f":"SUM(E11,E13,E21,E27,E33,E41)","v":15},null,{"$f":"SUM(G11,G13,G21,G27,G33,G41)","v":15},null,{"$f":"SUM(I11,I13,I21,I27,I33,I41)","v":15},null,{"$f":"SUM(K11,K13,K21,K27,K33,K41)","v":10},null,{"$f":"SUM(M11,M13,M21,M27,M33,M41)","v":10},{"$f":"SUM(C42,E42,G42,I42,K42,M42)","v":80},"Gesamtsumme aller Module:  204"]

{"sheet":"Listen","index":1,"n_rows":69,"n_cols":8,"rows_kept":69,"cut":false,"hidden":true,"merged":[]}
["Stundenwert",null,"NAWI"]
[2]
[3,null,"Physik"]
[4]
[null,null,{"$f":"IF(OR(Modulplan!B16=\"BUa\",Modulplan!B16=\"BUEa\"),\"Parallel mit BU(E) - für PH zuerst abwählen!\",\"PHa\")","v":"PHa"},{"$f":"IF(OR(Modulplan!D16=\"BUa\",Modulplan!D16=\"BUEa\"),\"Parallel mit BU(E) - für PH zuerst abwählen!\",\"PHa\")","v":"PHa"},{"$f":"IF(OR(Modulplan!F16=\"BUa\",Modulplan!F16=\"BUEa\"),\"Parallel mit BU(E) - für PH zuerst abwählen!\",\"PHa\")","v":"PHa"},{"$f":"IF(OR(Modulplan!H16=\"BUa\",Modulplan!H16=\"BUEa\"),\"Parallel mit BU(E) - für PH zuerst abwählen!\",\"PHa\")","v":"PHa"},{"$f":"IF(OR(Modulplan!J16=\"BUb\",Modulplan!J16=\"BUEb\"),\"Parallel mit BU(E) - für PH zuerst abwählen!\",\"PHb\")","v":"PHb"},{"$f":"IF(OR(Modulplan!L16=\"BUb\",Modulplan!L16=\"BUEb\"),\"Parallel mit BU(E) - für PH zuerst abwählen!\",\"PHb\")","v":"PHb"}]
[null,null,null,null,{"$f":"IF(OR(Modulplan!F16=\"BUb\",Modulplan!F16=\"BUEb\"),\"Parallel mit BU(E) - für PH zuerst abwählen!\",\"PHb\")","v":"PHb"},{"$f":"IF(OR(Modulplan!H16=\"BUb\",Modulplan!H16=\"BUEb\"),\"Parallel mit BU(E) - für PH zuerst abwählen!\",\"PHb\")","v":"PHb"}]
[]
["Ethik",null,"Biologie"]
["RK"]
["RE",null,{"$f":"IF(Modulplan!$B$15<>\"\",\"Parallel mit PH - für BU zuerst abwählen!\",IF(Modulplan!A16=\"BU\",\"BUa\",\"BUEa\"))","v":"BUa"},{"$f":"IF(Modulplan!$D$15<>\"\",\"Parallel mit PH - für BU zuerst abwählen!\",IF(Modulplan!A16=\"BU\",\"BUa\",\"BUEa\"))","v":"BUa"},{"$f":"IF(Modulplan!$F$15=\"PHa\",\"Parallel mit PH - für BU zuerst abwählen!\",IF(Modulplan!A16=\"BU\",\"BUa\",\"BUEa\"))","v":"BUa"},{"$f":"IF(Modulplan!$H$15=\"PHa\",\"Parallel mit PH - für BU zuerst abwählen!\",IF(Modulplan!A16=\"BU\",\"BUa\",\"BUEa\"))","v":"BUa"},{"$f":"IF(Modulplan!$J$15<>\"\",\"Parallel mit PH - für BU zuerst abwählen!\",IF(Modulplan!A16=\"BU\",\"BUb\",\"BUEb\"))","v":"BUb"},{"$f":"IF(Modulplan!$L$15<>\"\",\"Parallel mit PH - für BU zuerst abwählen!\",IF(Modulplan!A16=\"BU\",\"BUb\",\"BUEb\"))","v":"BUb"}]
["Eht/Rk/Re",null,null,null,{"$f":"IF(Modulplan!$F$15=\"PHb\",\"Parallel mit PH - für BU zuerst abwählen!\",IF(Modulplan!A16=\"BU\",\"BUb\",\"BUEb\"))","v":"BUb"},{"$f":"IF(Modulplan!$H$15=\"PHb\",\"Parallel mit PH - für BU zuerst abwählen!\",IF(Modulplan!A16=\"BU\",\"BUb\",\"BUEb\"))","v":"BUb"}]
[]
[]
["Englisch",null,"Chemie"]
["E 7.Kl"]
["E 8.Kl",null,{"$f":"IF(Modulplan!A1=\"5. Klasse SKP\",\"CHa\",\"CH\")","v":"CHa"},{"$f":"IF(Modulplan!A1=\"5. Klasse SKP\",\"CHa\",\"CH\")","v":"CHa"},{"$f":"IF(Modulplan!A1=\"5. Klasse SKP\",\"CHa\",\"CH\")","v":"CHa"},{"$f":"IF(Modulplan!A1=\"5. Klasse SKP\",\"CHa\",\"CH\")","v":"CHa"},{"$f":"IF(Modulplan!A1=\"5. Klasse SKP\",\"CHb\",\"CH\")","v":"CHb"},{"$f":"IF(Modulplan!A1=\"5. Klasse SKP\",\"CHb\",\"CH\")","v":"CHb"}]
["E durchgehend",null,null,null,{"$f":"IF(E16=\"CH\",\"\",\"CHb\")","v":"CHb"},{"$f":"IF(E16=\"CH\",\"\",\"CHb\")","v":"CHb"}]
["Sprache"]
["F3",null,"NAWI"]
["F5"]
["SPA",null,{"$f":"IF(OR(Modulplan!B13=\"RU\",Modulplan!B13=\"IT\"),\"Parallel mit RU/IT – für NAWI bitte zuerst abwählen!\",\"NAWI\")","v":"NAWI"},{"$f":"IF(OR(Modulplan!B13=\"RU\",Modulplan!B13=\"IT\"),\"Parallel mit RU/IT – für NAWI bitte zuerst abwählen!\",\"NAWI\")","v":"NAWI"}]
["RU"]
["IT"]
["L3"]
["L5"]
[]
["Sprache-Std"]
[{"$f":"IF(OR(Modulplan!$A$13=\"RU\",Modulplan!$A$13=\"IT\"),\"24\",\"20\")","v":"20"}]
[{"$f":"IF(Listen!A28=\"20\",48,44)","v":48}]
[]
[]
["Klasse",null,{"$f":"IF(Modulplan!$B$24<>\"\",\"Parallel mit GS - für GW zuerst abwählen!\",IF(Modulplan!A18=\"GW\",\"GWa\",\"GWEa\"))","v":"GWa"},{"$f":"IF(Modulplan!$D$24<>\"\",\"Parallel mit GS - für GW zuerst abwählen!\",IF(Modulplan!A18=\"GW\",\"GWa\",\"GWEa\"))","v":"GWa"},{"$f":"IF(Modulplan!$F$24=\"GSa\",\"Parallel mit GS - für GW zuerst abwählen!\",IF(Modulplan!A18=\"GW\",\"GWa\",\"GWEa\"))","v":"GWa"},{"$f":"IF(Modulplan!$H$24=\"GSa\",\"Parallel mit GS - für GW zuerst abwählen!\",IF(Modulplan!A18=\"GW\",\"GWa\",\"GWEa\"))","v":"GWa"},{"$f":"IF(Modulplan!$J$24<>\"\",\"Parallel mit GS - für GW zuerst abwählen!\",IF(Modulplan!A18=\"GW\",\"GWb\",\"GWEb\"))","v":"GWb"},{"$f":"IF(Modulplan!$J$24<>\"\",\"Parallel mit GS - für GW zuerst abwählen!\",IF(Modulplan!A18=\"GW\",\"GWb\",\"GWEb\"))","v":"GWb"}]
["5C",null,null,null,{"$f":"IF(Modulplan!$F$24=\"GSb\",\"Parallel mit GS - für GW zuerst abwählen!\",IF(Modulplan!A18=\"GW\",\"GWb\",\"GWEb\"))","v":"GWb"},{"$f":"IF(Modulplan!$H$24=\"GSb\",\"Parallel mit GS - für GW zuerst abwählen!\",IF(Modulplan!A18=\"GW\",\"GWb\",\"GWEb\"))","v":"GWb"}]
["5D"]
["6C"]
["6D"]
["7C",null,"GESCHICHTE"]
["7D"]
[null,null,{"$f":"IF(OR(Modulplan!$B$18<>\"\",Modulplan!$B$23<>\"\"),\"Parallel mit GW - für GS zuerst abwählen!\",\"GSa\")","v":"GSa"},{"$f":"IF(OR(Modulplan!$D$18<>\"\",Modulplan!$D$23<>\"\"),\"Parallel mit GW - für GS zuerst abwählen!\",\"GSa\")","v":"GSa"},{"$f":"IF(OR(Modulplan!$F$18=\"GWa\",Modulplan!$F$18=\"GWEa\",Modulplan!$F$23=\"GWa\",Modulplan!$F$23=\"GWEa\"),\"Parallel mit GW - für GS zuerst abwählen!\",\"GSa\")","v":"GSa"},{"$f":"IF(OR(Modulplan!$H$18=\"GWa\",Modulplan!$H$18=\"GWEa\",Modulplan!$H$23=\"GWa\",Modulplan!$H$23=\"GWEa\"),\"Parallel mit GW - für GS zuerst abwählen!\",\"GSa\")","v":"GSa"},{"$f":"IF(OR(Modulplan!$J$18=\"GWb\",Modulplan!$J$18=\"GWEb\",Modulplan!$J$23=\"GWb\",Modulplan!$J$23=\"GWEb\"),\"Parallel mit GW - für GS zuerst abwählen!\",\"GSb\")","v":"GSb"},{"$f":"IF(OR(Modulplan!$L$18=\"GWb\",Modulplan!$L$18=\"GWEb\",Modulplan!$L$23=\"GWb\",Modulplan!$L$23=\"GWEb\"),\"Parallel mit GW - für GS zuerst abwählen!\",\"GSb\")","v":"GSb"}]
[null,null,null,null,{"$f":"IF(OR(Modulplan!$F$18=\"GWb\",Modulplan!$F$18=\"GWEb\",Modulplan!$F$23=\"GWb\",Modulplan!$F$23=\"GWEb\"),\"Parallel mit GW - für GS zuerst abwählen!\",\"GSb\")","v":"GSb"},{"$f":"IF(OR(Modulplan!$H$18=\"GWb\",Modulplan!$H$18=\"GWEb\",Modulplan!$H$23=\"GWb\",Modulplan!$H$23=\"GWEb\"),\"Parallel mit GW - für GS zuerst abwählen!\",\"GSb\")","v":"GSb"}]
["GW"]
["GWE",null,"KOSO"]
[]
["BU",null,null,null,"KOSO","KOSO","KOSO","KOSO"]
["BUE"]
[null,null,"PP"]
[null,null,null,null,null,null,"PP","PP"]
[]
[null,null,"BE"]
[]
[null,null,"BEa","BEa","BEa","BEa","BEb","BEb"]
[null,null,null,null,"BEb","BEb"]
[]
[]
[null,null,"ME"]
[]
[null,null,"MEa","MEa","MEa","MEa","MEb","MEb"]
[null,null,null,null,"MEb","MEb"]
[]
[null,null,"DG"]
[null,null,"DGa","DGa","DGb","DGb"]
[]
[]
[]
[null,null,"ETH/RK"]
[]
[null,null,"RK","RK","RK","RK","RK","RK"]
[null,null,"RE","RE","RE","RE","RE","RE"]
[null,null,"ETH","ETH","ETH","ETH","ETH","ETH"]